BEGIN:VCALENDAR
VERSION:2.0
PRODID:-//Analytics Group - Dinamizando las tecnologías de la información en las organizaciones - ECPv6.0.9//NONSGML v1.0//EN
CALSCALE:GREGORIAN
METHOD:PUBLISH
X-WR-CALNAME:Analytics Group - Dinamizando las tecnologías de la información en las organizaciones
X-ORIGINAL-URL:https://analyticsgroup.co
X-WR-CALDESC:Eventos para Analytics Group - Dinamizando las tecnologías de la información en las organizaciones
REFRESH-INTERVAL;VALUE=DURATION:PT1H
X-Robots-Tag:noindex
X-PUBLISHED-TTL:PT1H
BEGIN:VTIMEZONE
TZID:America/New_York
BEGIN:DAYLIGHT
TZOFFSETFROM:-0500
TZOFFSETTO:-0400
TZNAME:EDT
DTSTART:20230312T070000
END:DAYLIGHT
BEGIN:STANDARD
TZOFFSETFROM:-0400
TZOFFSETTO:-0500
TZNAME:EST
DTSTART:20231105T060000
END:STANDARD
END:VTIMEZONE
BEGIN:VEVENT
DTSTART;TZID=America/New_York:20230228T080000
DTEND;TZID=America/New_York:20230228T100000
DTSTAMP:20260425T205948
CREATED:20230215T204738Z
LAST-MODIFIED:20230215T214214Z
UID:1420-1677571200-1677578400@analyticsgroup.co
SUMMARY:Evento presencial: Analítica y automatización de datos en tiempos difíciles
DESCRIPTION:Analítica y automatización de datos en tiempos difíciles\nReaccionar rápido\, anticiparnos a los hechos\, reducir costos por medio de una adecuada combinación de estrategia\, analítica y automatización de procesos son factores claves al momento de afrontar momentos difíciles de gestionar como el que estamos atravesando en la actualidad. \nAcompáñanos en esta charla presencial junto a @it_nova @rocketbot_es y recibe consejos y formas de afrontar esta situación por medio de la tecnología y el uso de los datos. \nINSCRÍBETE AQUÍ
URL:https://analyticsgroup.co/eventos/analiticadatos-y-automatizacion_rpa/
LOCATION:Club Unión\, Calle 49 # 32 -30\, Bucaramanga\, Santander\, Colombia
ATTACH;FMTTYPE=image/jpeg:https://analyticsgroup.co/wp-content/uploads/2023/02/Evento_AnalyticsGroup_ITNOVA.jpg
ORGANIZER;CN="Analytics%20Group%20SAS":MAILTO:info@analyticsgroup.co
END:VEVENT
BEGIN:VEVENT
DTSTART;TZID=America/New_York:20230426T110000
DTEND;TZID=America/New_York:20230426T120000
DTSTAMP:20260425T205948
CREATED:20230404T183837Z
LAST-MODIFIED:20230418T140636Z
UID:1610-1682506800-1682510400@analyticsgroup.co
SUMMARY:Webinar: Analítica de datos aplicada a la gestión de personas
DESCRIPTION:Analítica de datos aplicada a la gestión de personas.\nTe invitamos a conocer como la analítica de datos apoya tus procesos de forma estratégica generando valor a tu empresa y aprovechando al máximo la información de la gestión de personas. \n• Optimiza y gana tiempo en la generación de resultados. \n• Cuenta con la información en tiempo real y conoce el estado del proceso de gestión de personas \n• Ahorra en costos operativos y optimiza el tiempo de tus colaboradores \nAcompáñanos en este Webinar y conoce los beneficios para la gestión de personas a través de la analítica de datos.
URL:https://analyticsgroup.co/eventos/1610/
LOCATION:Webinar\, Colombia
ATTACH;FMTTYPE=image/png:https://analyticsgroup.co/wp-content/uploads/2023/04/AnalyticsGroup_Webinar_AnaliticaPersonas_26Abril2023.png
ORGANIZER;CN="Analytics%20Group%20SAS":MAILTO:info@analyticsgroup.co
END:VEVENT
BEGIN:VEVENT
DTSTART;TZID=America/New_York:20230719T110000
DTEND;TZID=America/New_York:20230719T120000
DTSTAMP:20260425T205948
CREATED:20230710T211819Z
LAST-MODIFIED:20230710T212242Z
UID:1800-1689764400-1689768000@analyticsgroup.co
SUMMARY:Webinar: Mejora tu estrategia de retención de clientes
DESCRIPTION:Mejora tu estrategia de retención de clientes.\nTe invitamos a conocer como la analítica de datos te apoya en el análisis del comportamiento de tus clientes y maximiza su valor a través de indicadores reales. \n• Optimiza y gana tiempo en la generación de resultados. \n• Crea estrategias de fidelización a partir de indicadores y análisis del comportamiento de sus clientes. \n• Analiza las ventas y márgenes de sus servicios y/o productos de forma real basada en datos. \n• Analiza el comportamiento de un servicio y/o producto\, su  rentabilidad\, su rotación y su demanda \nAcompáñanos en este Webinar y conoce los beneficios para la gestión de clientes a través de la analítica de datos.
URL:https://analyticsgroup.co/eventos/1907/
LOCATION:Webinar\, Colombia
ATTACH;FMTTYPE=image/png:https://analyticsgroup.co/wp-content/uploads/2023/07/Webinar2_Estrategia-retencion-.png
ORGANIZER;CN="Analytics%20Group%20SAS":MAILTO:info@analyticsgroup.co
END:VEVENT
END:VCALENDAR