BEGIN:VCALENDAR
VERSION:2.0
PRODID:-//Analytics Group - Dinamizando las tecnologías de la información en las organizaciones - ECPv6.0.9//NONSGML v1.0//EN
CALSCALE:GREGORIAN
METHOD:PUBLISH
X-ORIGINAL-URL:https://analyticsgroup.co
X-WR-CALDESC:Eventos para Analytics Group - Dinamizando las tecnologías de la información en las organizaciones
REFRESH-INTERVAL;VALUE=DURATION:PT1H
X-Robots-Tag:noindex
X-PUBLISHED-TTL:PT1H
BEGIN:VTIMEZONE
TZID:America/New_York
BEGIN:DAYLIGHT
TZOFFSETFROM:-0500
TZOFFSETTO:-0400
TZNAME:EDT
DTSTART:20230312T070000
END:DAYLIGHT
BEGIN:STANDARD
TZOFFSETFROM:-0400
TZOFFSETTO:-0500
TZNAME:EST
DTSTART:20231105T060000
END:STANDARD
END:VTIMEZONE
BEGIN:VEVENT
DTSTART;TZID=America/New_York:20230426T110000
DTEND;TZID=America/New_York:20230426T120000
DTSTAMP:20260425T181307
CREATED:20230404T183837Z
LAST-MODIFIED:20230418T140636Z
UID:1610-1682506800-1682510400@analyticsgroup.co
SUMMARY:Webinar: Analítica de datos aplicada a la gestión de personas
DESCRIPTION:Analítica de datos aplicada a la gestión de personas.\nTe invitamos a conocer como la analítica de datos apoya tus procesos de forma estratégica generando valor a tu empresa y aprovechando al máximo la información de la gestión de personas. \n• Optimiza y gana tiempo en la generación de resultados. \n• Cuenta con la información en tiempo real y conoce el estado del proceso de gestión de personas \n• Ahorra en costos operativos y optimiza el tiempo de tus colaboradores \nAcompáñanos en este Webinar y conoce los beneficios para la gestión de personas a través de la analítica de datos.
URL:https://analyticsgroup.co/eventos/1610/
LOCATION:Webinar\, Colombia
ATTACH;FMTTYPE=image/png:https://analyticsgroup.co/wp-content/uploads/2023/04/AnalyticsGroup_Webinar_AnaliticaPersonas_26Abril2023.png
ORGANIZER;CN="Analytics%20Group%20SAS":MAILTO:info@analyticsgroup.co
END:VEVENT
END:VCALENDAR